BEGIN:VCALENDAR
VERSION:2.0
PRODID:-//Electrical &amp; Computer Engineering - ECPv6.15.18//NONSGML v1.0//EN
CALSCALE:GREGORIAN
METHOD:PUBLISH
X-WR-CALNAME:Electrical &amp; Computer Engineering
X-ORIGINAL-URL:https://www.ece.utoronto.ca
X-WR-CALDESC:Events for Electrical &amp; Computer Engineering
REFRESH-INTERVAL;VALUE=DURATION:PT1H
X-Robots-Tag:noindex
X-PUBLISHED-TTL:PT1H
BEGIN:VTIMEZONE
TZID:America/Toronto
BEGIN:DAYLIGHT
TZOFFSETFROM:-0500
TZOFFSETTO:-0400
TZNAME:EDT
DTSTART:20240310T070000
END:DAYLIGHT
BEGIN:STANDARD
TZOFFSETFROM:-0400
TZOFFSETTO:-0500
TZNAME:EST
DTSTART:20241103T060000
END:STANDARD
BEGIN:DAYLIGHT
TZOFFSETFROM:-0500
TZOFFSETTO:-0400
TZNAME:EDT
DTSTART:20250309T070000
END:DAYLIGHT
BEGIN:STANDARD
TZOFFSETFROM:-0400
TZOFFSETTO:-0500
TZNAME:EST
DTSTART:20251102T060000
END:STANDARD
BEGIN:DAYLIGHT
TZOFFSETFROM:-0500
TZOFFSETTO:-0400
TZNAME:EDT
DTSTART:20260308T070000
END:DAYLIGHT
BEGIN:STANDARD
TZOFFSETFROM:-0400
TZOFFSETTO:-0500
TZNAME:EST
DTSTART:20261101T060000
END:STANDARD
END:VTIMEZONE
BEGIN:VEVENT
DTSTART;TZID=America/Toronto:20251202T120000
DTEND;TZID=America/Toronto:20251202T140000
DTSTAMP:20260422T192512
CREATED:20251119T161409Z
LAST-MODIFIED:20251203T160312Z
UID:10000300-1764676800-1764684000@www.ece.utoronto.ca
SUMMARY:ECE Open House
DESCRIPTION:Want to connect with your community? Come by our weekly ECE Open House!  Enjoy snacks\, discover resources to help you thrive\, and enjoy getting a cup of hot chocolate.  No registration is needed — drop in\, grab a treat\, and say hi. We look forward to seeing you there!
URL:https://www.ece.utoronto.ca/events-calendar/ece-open-house-17/
CATEGORIES:Undergraduate Events
END:VEVENT
END:VCALENDAR